BEGIN:VCALENDAR
PRODID:-//github.com/rianjs/ical.net//NONSGML ical.net 4.0//EN
VERSION:2.0
BEGIN:VEVENT
DESCRIPTION:På fredag finns Claes Andrén\, en av Sveriges mest engagerade 
 naturvårdare och före detta vetenskaplig ledare på Nordens Ark\, på plats
  i Torp Köpcentrum
DTEND:20260424T140000
DTSTAMP:20260423T133111Z
DTSTART:20260424T120000
LOCATION:Nordens Ark utställning på Torp
SEQUENCE:0
SUMMARY:Möt Claes Andrén på Nordens Arks utställning
UID:9d9ffad7-1494-4a61-b177-03587762039e
END:VEVENT
END:VCALENDAR
